BEGIN:VCALENDAR
VERSION:2.0
PRODID:-//FIT LIFE - ECPv6.15.20//NONSGML v1.0//EN
CALSCALE:GREGORIAN
METHOD:PUBLISH
X-ORIGINAL-URL:https://fitlife.fitness
X-WR-CALDESC:Events for FIT LIFE
REFRESH-INTERVAL;VALUE=DURATION:PT1H
X-Robots-Tag:noindex
X-PUBLISHED-TTL:PT1H
BEGIN:VTIMEZONE
TZID:America/Denver
BEGIN:DAYLIGHT
TZOFFSETFROM:-0700
TZOFFSETTO:-0600
TZNAME:MDT
DTSTART:20200308T090000
END:DAYLIGHT
BEGIN:STANDARD
TZOFFSETFROM:-0600
TZOFFSETTO:-0700
TZNAME:MST
DTSTART:20201101T080000
END:STANDARD
BEGIN:DAYLIGHT
TZOFFSETFROM:-0700
TZOFFSETTO:-0600
TZNAME:MDT
DTSTART:20210314T090000
END:DAYLIGHT
BEGIN:STANDARD
TZOFFSETFROM:-0600
TZOFFSETTO:-0700
TZNAME:MST
DTSTART:20211107T080000
END:STANDARD
BEGIN:DAYLIGHT
TZOFFSETFROM:-0700
TZOFFSETTO:-0600
TZNAME:MDT
DTSTART:20220313T090000
END:DAYLIGHT
BEGIN:STANDARD
TZOFFSETFROM:-0600
TZOFFSETTO:-0700
TZNAME:MST
DTSTART:20221106T080000
END:STANDARD
BEGIN:DAYLIGHT
TZOFFSETFROM:-0700
TZOFFSETTO:-0600
TZNAME:MDT
DTSTART:20230312T090000
END:DAYLIGHT
BEGIN:STANDARD
TZOFFSETFROM:-0600
TZOFFSETTO:-0700
TZNAME:MST
DTSTART:20231105T080000
END:STANDARD
END:VTIMEZONE
BEGIN:VEVENT
DTSTART;TZID=America/Denver:20220105T183000
DTEND;TZID=America/Denver:20220105T200000
DTSTAMP:20260420T105112
CREATED:20220105T072527Z
LAST-MODIFIED:20220106T024153Z
UID:1147-1641407400-1641412800@fitlife.fitness
SUMMARY:A-Team Club Night
DESCRIPTION:Join us for a welcome 2022 happy new year club night. \nHighlights\n• Puggles(2 years old) and Cubbies(3\,4\, and 5 Years old) are moving to the nursery wing (Lower level\, south wing) of the building.\nLower Level Site Map \nOpening ceremonies – Worship Center – 6:30 – 6:40\nUpper Level Site Map\nReminder: Curbside drop off of grade school clubbers is prohibited. \nPlease accompany your clubber(s) through the opening ceremony. \nCome early and seize the opportunity to meet your clubber’s leaders/directors and discuss how your clubber is doing.\nWe’ll do pledges\, and a song together. I’ll share important announcements for what’s happening that night and upcoming events. Also\, I’ll be sharing what makes our club at GCBC distinct and unique. All in 10 minutes or less! \nThe club will end at 8:00. Please pick up your clubber(s) from their classroom(s) between 7:55 – 8:00. Preferably from youngest to oldest. See site maps to for location of your clubber(s) \nReminder: Curbside pickup of grade school clubbers is prohibited unless expressed written permission is received from the parent(s)/guardian.\nUpper Level Site Map\nLower Level Site Map
URL:https://fitlife.fitness/event/a-team-club-night-2/
LOCATION:Grace Community Bible Church – Worship Center\, 11592 South 1300 East\, Sandy\, UT\, 84094\, United States
ATTACH;FMTTYPE=image/jpeg:https://fitlife.fitness/wp-content/uploads/2021/12/A-Team-Club-Night-Background-16x9-1-e1642082896274.jpg
ORGANIZER;CN="Kevin Kennington A-TEAM Ministry Director":MAILTO:kevin@fitlife.fitness
END:VEVENT
BEGIN:VEVENT
DTSTART;TZID=America/Denver:20211215T183000
DTEND;TZID=America/Denver:20211215T200000
DTSTAMP:20260420T105112
CREATED:20211215T110155Z
LAST-MODIFIED:20211215T111053Z
UID:1142-1639593000-1639598400@fitlife.fitness
SUMMARY:Merry Christmas A-TEAM CLUB
DESCRIPTION:Join us for a very merry Christmas club night.\nChristmas Card exchange night. Clubbers receive 1 share for every card they have filled out for their friends\, leaders\, and directors.\nLast store night before Christmas\, so bring all your shares to buy gifts for family and friends.\nThere’ll be Christmas carolers\, Christmas parties\, and a special story for the Cubbies and Sparks. \nOpening ceremonies – 6:30 – 6:40 \nReminder: Curbside drop off of grade school clubbers is prohibited. \nPlease accompany your clubber(s) through the opening ceremony. \nCome early and seize the opportunity to meet your clubber’s leaders/directors and discuss how your clubber is doing.\nWe’ll do pledges\, and a song together. I’ll share important announcements for what’s happening that night and upcoming events. Also\, I’ll be sharing what makes our club at GCBC distinct and unique. All in 10 minutes or less! \nThe club will end at 8:00. Please pick up your clubber(s) from their classroom(s) between 7:55 – 8:00. Preferably from youngest to oldest. \nReminder: Curbside pickup of grade school clubbers is prohibited unless expressed written permission is received from the parent(s)/guardian.
URL:https://fitlife.fitness/event/merry-christmas-a-team-club/
LOCATION:Grace Community Bible Church – Worship Center\, 11592 South 1300 East\, Sandy\, UT\, 84094\, United States
ATTACH;FMTTYPE=image/jpeg:https://fitlife.fitness/wp-content/uploads/2021/12/A-Team-Club-Night-Background-16x9-1-e1642082896274.jpg
ORGANIZER;CN="Kevin Kennington A-TEAM Ministry Director":MAILTO:kevin@fitlife.fitness
END:VEVENT
BEGIN:VEVENT
DTSTART;TZID=America/Denver:20211208T063000
DTEND;TZID=America/Denver:20211208T200000
DTSTAMP:20260420T105112
CREATED:20211208T210956Z
LAST-MODIFIED:20211209T042245Z
UID:1126-1638945000-1638993600@fitlife.fitness
SUMMARY:A-TEAM CLUB NIGHT
DESCRIPTION:Join us for a fun night of club. \nOpening ceremonies – 6:30 – 6:40 \nReminder: Curbside drop off of grade school clubbers is prohibited. \nPlease accompany your clubber(s) through the opening ceremony. \nCome early and seize the opportunity to meet your clubber’s leaders/directors and discuss how your clubber is doing.\nWe’ll do pledges\, and a song together. I’ll share important announcements for what’s happening that night and upcoming events. Also\, I’ll be sharing what makes our club at GCBC distinct and unique. All in 10 minutes or less! \nBe sure to say farewell to Ms. Erica Culberson\, one of our T&T Leaders. She’ll be traveling back to Topeka\, Kansas\, then in January\, moving to Kansas City to attend Johnson County College. We’ll be praying for her safe return and that God will continue to bless her and use her mightily. \nThe club will end at 8:00. Please pick up your clubber(s) from their classroom(s) between 7:55 – 8:00. Preferably from youngest to oldest. \nReminder: Curbside pickup of grade school clubbers is prohibited unless expressed written permission is received from the parent(s)/guardian.
URL:https://fitlife.fitness/event/a-team-club-night/
LOCATION:Grace Community Bible Church – Worship Center\, 11592 South 1300 East\, Sandy\, UT\, 84094\, United States
ATTACH;FMTTYPE=image/jpeg:https://fitlife.fitness/wp-content/uploads/2021/12/A-Team-Club-Night-Background-16x9-1-e1642082896274.jpg
ORGANIZER;CN="Kevin Kennington A-TEAM Ministry Director":MAILTO:kevin@fitlife.fitness
END:VEVENT
BEGIN:VEVENT
DTSTART;TZID=America/Denver:20211204T090000
DTEND;TZID=America/Denver:20211204T120000
DTSTAMP:20260420T105112
CREATED:20211203T101559Z
LAST-MODIFIED:20211204T034342Z
UID:1106-1638608400-1638619200@fitlife.fitness
SUMMARY:A-TEAM Grand-Pix
DESCRIPTION:Come join us for race day! \nPits open at 9:00 AM. \nCheck-in 9:30-9:55. \nCars must be checked in on time. \nOnce racing begins\, the check-in is closed. The race manager software does not allow late check-in. \nRacing begins at 10:00 AM downstairs in the game room. \nClick hard to see link for building plans–>Building Plans for Pinewood Cars
URL:https://fitlife.fitness/event/grand-pix-pinewood-derby/
LOCATION:Grace Community Bible Church-Game Room\, 11592 South 1300 East\, Sandy\, UT\, 84094\, United States
ATTACH;FMTTYPE=image/jpeg:https://fitlife.fitness/wp-content/uploads/2021/12/maxresdefault.jpg
ORGANIZER;CN="Kevin Kennington A-TEAM Ministry Director":MAILTO:kevin@fitlife.fitness
END:VEVENT
END:VCALENDAR